BEGIN:VCALENDAR
VERSION:2.0
PRODID:SchoolNow
CALSCALE:GREGORIAN
BEGIN:VEVENT
UID:07cd0124-e3b0-11ed-b2ec-02037ebcd829
DTSTAMP:20240403T182326Z
SUMMARY:**CANCELLED** Board of Trustees Meeting - April 8\, 2024
LOCATION:ROE26 Office
URL;VALUE=URI:https://www.roe26.net/trustees/calendar/4126987/board-of-trus
 tees-meeting-july-12-2021-clone-clone-clone-clone-clone-clone-clone-clone-
 clone-clone-clone-clone
DTSTART:20240409T000000Z
DTEND:20240409T010000Z
END:VEVENT
END:VCALENDAR
