BEGIN:VCALENDAR
VERSION:2.0
PRODID:SchoolNow
CALSCALE:GREGORIAN
BEGIN:VEVENT
UID:f592a978-e3af-11ed-aa05-02037ebcd829
DTSTAMP:20231219T200827Z
SUMMARY:**CANCELLED** Board of Trustees Meeting - January 8\, 2024
LOCATION:ROE26 Office
URL;VALUE=URI:https://www.roe26.net/trustees/calendar/4126985/board-of-trus
 tees-meeting-july-12-2021-clone-clone-clone-clone-clone-clone-clone-clone-
 clone-clone-clone
DTSTART:20240109T010000Z
DTEND:20240109T020000Z
END:VEVENT
END:VCALENDAR
