BEGIN:VCALENDAR
VERSION:2.0
PRODID:SchoolNow
CALSCALE:GREGORIAN
BEGIN:VEVENT
UID:e0f8bbba-e3af-11ed-bb6f-02037ebcd829
DTSTAMP:20230921T233516Z
SUMMARY:**CANCELLED** - Board of Trustees Meeting - October 2\, 2023
LOCATION:ROE26 Office
URL;VALUE=URI:https://www.roe26.net/trustees/calendar/4126983/board-of-trus
 tees-meeting-july-12-2021-clone-clone-clone-clone-clone-clone-clone-clone-
 clone-clone
DTSTART:20231003T000000Z
DTEND:20231003T010000Z
END:VEVENT
END:VCALENDAR
