BEGIN:VCALENDAR
VERSION:2.0
PRODID:SchoolNow
CALSCALE:GREGORIAN
BEGIN:VEVENT
UID:c20271c4-e3af-11ed-9d55-02037ebcd829
DTSTAMP:20230719T025822Z
SUMMARY:**CANCELLED** - Board of Trustees Meeting - July 10\, 2023
LOCATION:ROE26 Office
URL;VALUE=URI:https://www.roe26.net/trustees/calendar/4126980/board-of-trus
 tees-meeting-july-12-2021-clone-clone-clone-clone-clone-clone-clone-clone-
 clone
DTSTART:20230711T000000Z
DTEND:20230711T010000Z
END:VEVENT
END:VCALENDAR
