BEGIN:VCALENDAR
VERSION:2.0
PRODID:SchoolNow
CALSCALE:GREGORIAN
BEGIN:VEVENT
UID:8984a48a-b69b-11ec-ac84-0a6d3d9830bd
DTSTAMP:20230510T164513Z
SUMMARY:Board of Trustees Meeting - May 15\, 2023
LOCATION:ROE26 Office
URL;VALUE=URI:https://www.roe26.net/trustees/calendar/3161588/board-of-trus
 tees-meeting-july-12-2021-clone-clone-clone-clone-clone-clone-clone-clone
DTSTART:20230516T000000Z
DTEND:20230516T010000Z
END:VEVENT
END:VCALENDAR
