BEGIN:VCALENDAR
VERSION:2.0
PRODID:SchoolNow
CALSCALE:GREGORIAN
BEGIN:VEVENT
UID:7d4dfc8e-b69b-11ec-aba3-0a6d3d9830bd
DTSTAMP:20230328T175420Z
SUMMARY:Board of Trustees Meeting - April 3\, 2023
LOCATION:ROE26 Office
URL;VALUE=URI:https://www.roe26.net/trustees/calendar/3161587/board-of-trus
 tees-meeting-july-12-2021-clone-clone-clone-clone-clone-clone-clone
DTSTART:20230404T000000Z
DTEND:20230404T010000Z
END:VEVENT
END:VCALENDAR
