BEGIN:VCALENDAR
VERSION:2.0
PRODID:SchoolNow
CALSCALE:GREGORIAN
BEGIN:VEVENT
UID:60bc9a30-b69b-11ec-a108-0a6d3d9830bd
DTSTAMP:20230111T183445Z
SUMMARY:**CANCELLED** Board of Trustees Meeting - January 9\, 2023
LOCATION:ROE26 Office
URL;VALUE=URI:https://www.roe26.net/trustees/calendar/3161586/board-of-trus
 tees-meeting-july-12-2021-clone-clone-clone-clone-clone-clone
DTSTART:20230110T010000Z
DTEND:20230110T020000Z
END:VEVENT
END:VCALENDAR
