BEGIN:VCALENDAR
VERSION:2.0
PRODID:SchoolNow
CALSCALE:GREGORIAN
BEGIN:VEVENT
UID:4f756180-b69b-11ec-8be3-0a6d3d9830bd
DTSTAMP:20220928T143653Z
SUMMARY:Board of Trustees Meeting - October 3\, 2022
LOCATION:ROE26 Office
URL;VALUE=URI:https://www.roe26.net/trustees/calendar/3161585/board-of-trus
 tees-meeting-july-12-2021-clone-clone-clone-clone-clone
DTSTART:20221004T000000Z
DTEND:20221004T010000Z
END:VEVENT
END:VCALENDAR
