BEGIN:VCALENDAR
VERSION:2.0
PRODID:SchoolNow
CALSCALE:GREGORIAN
BEGIN:VEVENT
UID:417ea456-b69b-11ec-b2b7-0a6d3d9830bd
DTSTAMP:20220705T143604Z
SUMMARY:**CANCELLED** Board of Trustees Meeting - July 11\, 2022
LOCATION:ROE26 Office
URL;VALUE=URI:https://www.roe26.net/trustees/calendar/3161584/board-of-trus
 tees-meeting-july-12-2021-clone-clone-clone-clone
DTSTART:20220712T000000Z
DTEND:20220712T010000Z
END:VEVENT
END:VCALENDAR
