BEGIN:VCALENDAR
VERSION:2.0
PRODID:SchoolNow
CALSCALE:GREGORIAN
BEGIN:VEVENT
UID:25a4b5be-ba51-11eb-8325-0af22b1de12d
DTSTAMP:20221004T192027Z
SUMMARY:Board of Trustees Meeting - April 4\, 2022
LOCATION:ROE26 Office
URL;VALUE=URI:https://www.roe26.net/trustees/calendar/2603745/board-of-trus
 tees-meeting-july-12-2021-clone-clone-clone
DTSTART:20220405T000000Z
DTEND:20220405T010000Z
END:VEVENT
END:VCALENDAR
