BEGIN:VCALENDAR
VERSION:2.0
PRODID:SchoolNow
CALSCALE:GREGORIAN
BEGIN:VEVENT
UID:0d8f985e-ba51-11eb-ae01-0af22b1de12d
DTSTAMP:20220407T174908Z
SUMMARY:Board of Trustees Meeting - October 4\, 2021
LOCATION:ROE26 Office
URL;VALUE=URI:https://www.roe26.net/trustees/calendar/2603743/board-of-trus
 tees-meeting-july-12-2021-clone
DTSTART:20211005T000000Z
DTEND:20211005T010000Z
END:VEVENT
END:VCALENDAR
