BEGIN:VCALENDAR
VERSION:2.0
PRODID:SchoolNow
CALSCALE:GREGORIAN
BEGIN:VEVENT
UID:edc7276c-ba50-11eb-aa92-0af22b1de12d
DTSTAMP:20210707T151202Z
SUMMARY:CANCELLED - Board of Trustees Meeting - July 12\, 2021
LOCATION:ROE26 Office
URL;VALUE=URI:https://www.roe26.net/trustees/calendar/2603742/board-of-trus
 tees-meeting-july-12-2021
DTSTART:20210713T000000Z
DTEND:20210713T010000Z
END:VEVENT
END:VCALENDAR
