BEGIN:VCALENDAR
VERSION:2.0
PRODID:SchoolNow
CALSCALE:GREGORIAN
BEGIN:VEVENT
UID:b71c8b10-fd33-11ea-ad8c-0a8e3cd07a0b
DTSTAMP:20211008T150502Z
SUMMARY:Regional Board of School Trustee Meeting - May 17\, 2021
LOCATION:ROE26 - 2nd Floor Conference Room\, Macomb IL
URL;VALUE=URI:https://www.roe26.net/trustees/calendar/2377783/regional-boar
 d-of-school-trustee-meeting-may17
DTSTART:20210518T000000Z
DTEND:20210518T010000Z
END:VEVENT
END:VCALENDAR
