BEGIN:VCALENDAR
VERSION:2.0
PRODID:SchoolNow
CALSCALE:GREGORIAN
BEGIN:VEVENT
UID:82bfb82e-fd33-11ea-94b6-12301a238921
DTSTAMP:20210405T144137Z
SUMMARY:CANCELLED - Regional Board of School Trustee Meeting - April 5\, 20
 21
LOCATION:ROE26 - 2nd Floor Conference Room\, Macomb IL
URL;VALUE=URI:https://www.roe26.net/trustees/calendar/2377782/regional-boar
 d-of-school-trustee-meeting-april5
DTSTART:20210406T000000Z
DTEND:20210406T010000Z
END:VEVENT
END:VCALENDAR
