BEGIN:VCALENDAR
VERSION:2.0
PRODID:SchoolNow
CALSCALE:GREGORIAN
BEGIN:VEVENT
UID:62697e52-fd33-11ea-ae8e-12301a238921
DTSTAMP:20210106T142245Z
SUMMARY:CANCELLED - Regional Board of School Trustee Meeting - January 4\, 
 2021
LOCATION:ROE26 - 2nd Floor Conference Room\, Macomb IL
URL;VALUE=URI:https://www.roe26.net/trustees/calendar/2377780/regional-boar
 d-of-school-trustee-meeting-jan4
DTSTART:20210105T010000Z
DTEND:20210105T020000Z
END:VEVENT
END:VCALENDAR
