BEGIN:VCALENDAR
VERSION:2.0
PRODID:SchoolNow
CALSCALE:GREGORIAN
BEGIN:VEVENT
UID:43e512fc-fd33-11ea-bc7d-12301a238921
DTSTAMP:20211008T150559Z
SUMMARY:Regional Board of School Trustee Meeting - October 5\, 2020
LOCATION:ROE26 - 2nd Floor Conference Room\, Macomb IL
URL;VALUE=URI:https://www.roe26.net/trustees/calendar/2377778/regional-boar
 d-of-school-trustee-meeting-oct5
DTSTART:20201006T000000Z
DTEND:20201006T010000Z
END:VEVENT
END:VCALENDAR
