BEGIN:VCALENDAR
VERSION:2.0
PRODID:SchoolNow
CALSCALE:GREGORIAN
BEGIN:VEVENT
UID:6f9d171c-c6b2-11ea-9333-0ad01e5bb75b
DTSTAMP:20200715T154706Z
SUMMARY:Regional Board of School Trustee Meeting - Aug 11\, 2020
LOCATION:ROE26 - 2nd Floor Conference Room\, Macomb IL
URL;VALUE=URI:https://www.roe26.net/trustees/calendar/2282467/regional-boar
 d-of-school-trustee-meeting-clone-clone-clone-clone-clone-clone
DTSTART:20200812T000000Z
DTEND:20200812T010000Z
END:VEVENT
END:VCALENDAR
