BEGIN:VCALENDAR
VERSION:2.0
PRODID:SchoolNow
CALSCALE:GREGORIAN
BEGIN:VEVENT
UID:aaa9e766-6f6b-11ea-baf6-1227543a4c6f
DTSTAMP:20201012T150207Z
SUMMARY:Regional Board of School Trustee Meeting - July 13\, 2020
LOCATION:ROE26 - 2nd Floor Conference Room\, Macomb IL
URL;VALUE=URI:https://www.roe26.net/trustees/calendar/2224929/regional-boar
 d-of-school-trustee-meeting-clone-clone-clone-clone-clone
DTSTART:20200714T000000Z
DTEND:20200714T010000Z
END:VEVENT
END:VCALENDAR
