BEGIN:VCALENDAR
VERSION:2.0
PRODID:SchoolNow
CALSCALE:GREGORIAN
BEGIN:VEVENT
UID:e38c40ac-049e-11ea-8eb3-12558ec82d69
DTSTAMP:20191111T161853Z
SUMMARY:Regional Board of School Trustee Detachment/Annexation - November 1
 3\, 2019
LOCATION:ROE26 - 2nd Floor Conference Room\, Macomb IL
URL;VALUE=URI:https://www.roe26.net/trustees/calendar/2142787/regional-boar
 d-of-school-trustee-meeting-clone-clone-clone
DTSTART:20191114T010000Z
DTEND:20191114T030000Z
END:VEVENT
END:VCALENDAR
