BEGIN:VCALENDAR
VERSION:2.0
PRODID:SchoolNow
CALSCALE:GREGORIAN
BEGIN:VEVENT
UID:64e08214-765e-11e9-ae23-0a1c4b98b254
DTSTAMP:20200722T201352Z
SUMMARY:Regional Board of School Trustee Meeting - May 20\, 2019
LOCATION:ROE26 - 2nd Floor Conference Room\, Macomb IL
URL;VALUE=URI:https://www.roe26.net/trustees/calendar/1985497/regional-boar
 d-of-school-trustee-meeting-clone-clone
DTSTART:20190521T000000Z
DTEND:20190521T020000Z
END:VEVENT
END:VCALENDAR
