BEGIN:VCALENDAR
VERSION:2.0
PRODID:SchoolNow
CALSCALE:GREGORIAN
BEGIN:VEVENT
UID:a0c3d392-4f50-11e9-8212-12634a537724
DTSTAMP:20200727T225320Z
SUMMARY:NO QUORUM - Regional Board of School Trustee Meeting - October 7\, 
 2019
LOCATION:ROE26 - 2nd Floor Conference Room\, Macomb IL
URL;VALUE=URI:https://www.roe26.net/trustees/calendar/1960492/regional-boar
 d-of-school-trustee-meeting-clone-clone
DTSTART:20191008T000000Z
DTEND:20191008T020000Z
END:VEVENT
END:VCALENDAR
