BEGIN:VCALENDAR
VERSION:2.0
PRODID:SchoolNow
CALSCALE:GREGORIAN
BEGIN:VEVENT
UID:8d9b4746-4f50-11e9-ac0b-12634a537724
DTSTAMP:20190624T180948Z
SUMMARY:CANCELLED - Regional Board of School Trustee Meeting - July 1\, 201
 9
LOCATION:ROE26 - 2nd Floor Conference Room\, Macomb IL
URL;VALUE=URI:https://www.roe26.net/trustees/calendar/1960491/regional-boar
 d-of-school-trustee-meeting-clone
DTSTART:20190702T000000Z
DTEND:20190702T020000Z
END:VEVENT
END:VCALENDAR
