BEGIN:VCALENDAR
VERSION:2.0
PRODID:SchoolNow
CALSCALE:GREGORIAN
BEGIN:VEVENT
UID:fea2e014-36ee-11e8-9897-0a974e723f8e
DTSTAMP:20200722T200711Z
SUMMARY:CANCELLED - Regional Board of School Trustee Meeting - January 7\, 
 2019
LOCATION:ROE26 - 2nd Floor Conference Room\, Macomb IL
URL;VALUE=URI:https://www.roe26.net/trustees/calendar/1743252/regional-boar
 d-of-school-trustee-meeting
DTSTART:20190108T010000Z
DTEND:20190108T030000Z
END:VEVENT
END:VCALENDAR
