BEGIN:VCALENDAR
VERSION:2.0
PRODID:SchoolNow
CALSCALE:GREGORIAN
BEGIN:VEVENT
UID:d52e3062-36ee-11e8-ab09-0a974e723f8e
DTSTAMP:20200722T201429Z
SUMMARY:Regional Board of School Trustee Meeting - April 1\, 2019
LOCATION:ROE26 - 2nd Floor Conference Room\, Macomb IL
URL;VALUE=URI:https://www.roe26.net/trustees/calendar/1743251/regional-boar
 d-of-school-trustee-meeting
DTSTART:20190402T000000Z
DTEND:20190402T020000Z
END:VEVENT
END:VCALENDAR
