BEGIN:VCALENDAR
VERSION:2.0
PRODID:SchoolNow
CALSCALE:GREGORIAN
BEGIN:VEVENT
UID:9c1ab5a6-54d9-11ea-aad0-0adea8587c13
DTSTAMP:20200407T161139Z
SUMMARY:Temporary Closure - GED Testing at SRC Outreach Center\, Macomb
LOCATION:Spoon River College Outreach Center
URL;VALUE=URI:https://www.roe26.net/testing/calendar/2205129/ged-testing-at
 -src-clone-clone-clone-clone-clone-clone-clone-clone-clone-clone-clone-clo
 ne-clone-clone-clone-clone-clone-clone-clone-clone-clone-clone-clone-clone
 -clone-clone-clone-clone-clone-clone-clone
DTSTART:20200424T130000Z
DTEND:20200424T140000Z
END:VEVENT
END:VCALENDAR
