BEGIN:VCALENDAR
VERSION:2.0
PRODID:SchoolNow
CALSCALE:GREGORIAN
BEGIN:VEVENT
UID:3fef04f4-1523-11e9-804c-127aabea11e6
DTSTAMP:20190110T220115Z
SUMMARY:GED Testing at SRC Outreach Center\, Macomb
LOCATION:Spoon River College Outreach Center
URL;VALUE=URI:https://www.roe26.net/testing/calendar/1929674/ged-testing-at
 -src-clone-clone-clone-clone-clone-clone-clone-clone-clone-clone-clone-clo
 ne-clone-clone-clone-clone-clone-clone-clone-clone-clone-clone-clone-clone
 -clone
DTSTART:20191206T140000Z
DTEND:20191206T230000Z
END:VEVENT
END:VCALENDAR
