BEGIN:VCALENDAR
VERSION:2.0
PRODID:SchoolNow
CALSCALE:GREGORIAN
BEGIN:VEVENT
UID:0997d7aa-1523-11e9-92c4-127aabea11e6
DTSTAMP:20190110T215944Z
SUMMARY:GED Testing at SRC Outreach Center\, Macomb
LOCATION:Spoon River College Outreach Center
URL;VALUE=URI:https://www.roe26.net/testing/calendar/1929671/ged-testing-at
 -src-clone-clone-clone-clone-clone-clone-clone-clone-clone-clone-clone-clo
 ne-clone-clone-clone-clone-clone-clone-clone-clone-clone-clone
DTSTART:20191115T140000Z
DTEND:20191115T220000Z
END:VEVENT
END:VCALENDAR
