BEGIN:VCALENDAR
VERSION:2.0
PRODID:SchoolNow
CALSCALE:GREGORIAN
BEGIN:VEVENT
UID:f265de38-1522-11e9-b300-127aabea11e6
DTSTAMP:20190110T215905Z
SUMMARY:GED Testing at SRC Outreach Center\, Macomb
LOCATION:Spoon River College Outreach Center
URL;VALUE=URI:https://www.roe26.net/testing/calendar/1929669/ged-testing-at
 -src-clone-clone-clone-clone-clone-clone-clone-clone-clone-clone-clone-clo
 ne-clone-clone-clone-clone-clone-clone-clone-clone
DTSTART:20191101T130000Z
DTEND:20191101T210000Z
END:VEVENT
END:VCALENDAR
