BEGIN:VCALENDAR
VERSION:2.0
PRODID:SchoolNow
CALSCALE:GREGORIAN
BEGIN:VEVENT
UID:4af68564-1516-11e9-8db4-0abf463de616
DTSTAMP:20190110T202830Z
SUMMARY:GED Testing at SRC Outreach Center\, Macomb
LOCATION:Spoon River College Outreach Center
URL;VALUE=URI:https://www.roe26.net/testing/calendar/1929607/ged-testing-at
 -src-clone-clone-clone-clone-clone-clone-clone-clone-clone-clone-clone-clo
 ne
DTSTART:20190605T130000Z
DTEND:20190605T220000Z
END:VEVENT
END:VCALENDAR
