BEGIN:VCALENDAR
VERSION:2.0
PRODID:SchoolNow
CALSCALE:GREGORIAN
BEGIN:VEVENT
UID:3d84a0be-1516-11e9-8c50-0abf463de616
DTSTAMP:20190110T202807Z
SUMMARY:GED Testing at SRC Outreach Center\, Macomb
LOCATION:Spoon River College Outreach Center
URL;VALUE=URI:https://www.roe26.net/testing/calendar/1929606/ged-testing-at
 -src-clone-clone-clone-clone-clone-clone-clone-clone-clone-clone-clone
DTSTART:20190612T130000Z
DTEND:20190612T220000Z
END:VEVENT
END:VCALENDAR
