BEGIN:VCALENDAR
VERSION:2.0
PRODID:SchoolNow
CALSCALE:GREGORIAN
BEGIN:VEVENT
UID:293971f2-1516-11e9-b64d-0abf463de616
DTSTAMP:20190110T202733Z
SUMMARY:GED Testing at SRC Outreach Center\, Macomb
LOCATION:Spoon River College Outreach Center
URL;VALUE=URI:https://www.roe26.net/testing/calendar/1929604/ged-testing-at
 -src-clone-clone-clone-clone-clone-clone-clone-clone-clone-clone
DTSTART:20190530T130000Z
DTEND:20190530T220000Z
END:VEVENT
END:VCALENDAR
