BEGIN:VCALENDAR
VERSION:2.0
PRODID:SchoolNow
CALSCALE:GREGORIAN
BEGIN:VEVENT
UID:195ae9a0-1516-11e9-bf6a-0abf463de616
DTSTAMP:20190110T202707Z
SUMMARY:GED Testing at SRC Outreach Center\, Macomb
LOCATION:Spoon River College Outreach Center
URL;VALUE=URI:https://www.roe26.net/testing/calendar/1929603/ged-testing-at
 -src-clone-clone-clone-clone-clone-clone-clone-clone-clone-clone-clone
DTSTART:20190514T130000Z
DTEND:20190514T220000Z
END:VEVENT
END:VCALENDAR
