BEGIN:VCALENDAR
VERSION:2.0
PRODID:SchoolNow
CALSCALE:GREGORIAN
BEGIN:VEVENT
UID:e515d11e-1515-11e9-9ac5-0aafdb257fae
DTSTAMP:20190110T202539Z
SUMMARY:GED Testing at SRC Outreach Center\, Macomb
LOCATION:Spoon River College Outreach Center
URL;VALUE=URI:https://www.roe26.net/testing/calendar/1929601/ged-testing-at
 -src-clone-clone-clone-clone-clone-clone-clone-clone-clone-clone
DTSTART;VALUE=DATE:20190510
DTEND;VALUE=DATE:20190511
END:VEVENT
END:VCALENDAR
