BEGIN:VCALENDAR
VERSION:2.0
PRODID:SchoolNow
CALSCALE:GREGORIAN
BEGIN:VEVENT
UID:d53e4e9c-1515-11e9-be26-0aafdb257fae
DTSTAMP:20190110T202512Z
SUMMARY:GED Testing at SRC Outreach Center\, Macomb
LOCATION:Spoon River College Outreach Center
URL;VALUE=URI:https://www.roe26.net/testing/calendar/1929599/ged-testing-at
 -src-clone-clone-clone-clone-clone-clone-clone-clone-clone
DTSTART:20190520T130000Z
DTEND:20190520T220000Z
END:VEVENT
END:VCALENDAR
