BEGIN:VCALENDAR
VERSION:2.0
PRODID:SchoolNow
CALSCALE:GREGORIAN
BEGIN:VEVENT
UID:c4c36a34-1515-11e9-96a7-0aafdb257fae
DTSTAMP:20190110T202445Z
SUMMARY:GED Testing at SRC Outreach Center\, Macomb
LOCATION:Spoon River College Outreach Center
URL;VALUE=URI:https://www.roe26.net/testing/calendar/1929598/ged-testing-at
 -src-clone-clone-clone-clone-clone-clone-clone-clone
DTSTART:20190501T130000Z
DTEND:20190501T220000Z
END:VEVENT
END:VCALENDAR
