BEGIN:VCALENDAR
VERSION:2.0
PRODID:SchoolNow
CALSCALE:GREGORIAN
BEGIN:VEVENT
UID:790c0c86-1515-11e9-9a04-127aabea11e6
DTSTAMP:20190110T202238Z
SUMMARY:GED Testing at SRC Outreach Center\, Macomb
LOCATION:Spoon River College Outreach Center
URL;VALUE=URI:https://www.roe26.net/testing/calendar/1929596/ged-testing-at
 -src-clone-clone-clone-clone-clone-clone-clone-clone
DTSTART:20190417T130000Z
DTEND:20190417T220000Z
END:VEVENT
END:VCALENDAR
