BEGIN:VCALENDAR
VERSION:2.0
PRODID:SchoolNow
CALSCALE:GREGORIAN
BEGIN:VEVENT
UID:66373ff4-1515-11e9-a6b0-127aabea11e6
DTSTAMP:20190110T202206Z
SUMMARY:GED Testing at SRC Outreach Center\, Macomb
LOCATION:Spoon River College Outreach Center
URL;VALUE=URI:https://www.roe26.net/testing/calendar/1929595/ged-testing-at
 -src-clone-clone-clone-clone-clone-clone-clone
DTSTART:20190412T130000Z
DTEND:20190412T220000Z
END:VEVENT
END:VCALENDAR
