BEGIN:VCALENDAR
VERSION:2.0
PRODID:SchoolNow
CALSCALE:GREGORIAN
BEGIN:VEVENT
UID:3e6cee7e-1515-11e9-ac56-127aabea11e6
DTSTAMP:20190110T202059Z
SUMMARY:GED Testing at SRC Outreach Center\, Macomb
LOCATION:Spoon River College Outreach Center
URL;VALUE=URI:https://www.roe26.net/testing/calendar/1929593/ged-testing-at
 -src-clone-clone-clone-clone-clone-clone
DTSTART:20190403T130000Z
DTEND:20190403T220000Z
END:VEVENT
END:VCALENDAR
