BEGIN:VCALENDAR
VERSION:2.0
PRODID:SchoolNow
CALSCALE:GREGORIAN
BEGIN:VEVENT
UID:0ce149cc-1515-11e9-93af-127aabea11e6
DTSTAMP:20190110T201936Z
SUMMARY:GED Testing at SRC Outreach Center\, Macomb
LOCATION:Spoon River College Outreach Center
URL;VALUE=URI:https://www.roe26.net/testing/calendar/1929590/ged-testing-at
 -src-clone-clone-clone-clone-clone
DTSTART:20190308T140000Z
DTEND:20190308T230000Z
END:VEVENT
END:VCALENDAR
