BEGIN:VCALENDAR
VERSION:2.0
PRODID:SchoolNow
CALSCALE:GREGORIAN
BEGIN:VEVENT
UID:fba4fd7a-1514-11e9-b4ed-127aabea11e6
DTSTAMP:20190110T201907Z
SUMMARY:GED Testing at SRC Outreach Center\, Macomb
LOCATION:Spoon River College Outreach Center
URL;VALUE=URI:https://www.roe26.net/testing/calendar/1929589/ged-testing-at
 -src-clone-clone-clone-clone-clone
DTSTART:20190321T130000Z
DTEND:20190321T220000Z
END:VEVENT
END:VCALENDAR
