BEGIN:VCALENDAR
VERSION:2.0
PRODID:SchoolNow
CALSCALE:GREGORIAN
BEGIN:VEVENT
UID:efd1e22e-1514-11e9-893b-127aabea11e6
DTSTAMP:20190110T201847Z
SUMMARY:GED Testing at SRC Outreach Center\, Macomb
LOCATION:Spoon River College Outreach Center
URL;VALUE=URI:https://www.roe26.net/testing/calendar/1929588/ged-testing-at
 -src-clone-clone-clone-clone
DTSTART:20190311T130000Z
DTEND:20190311T220000Z
END:VEVENT
END:VCALENDAR
