BEGIN:VCALENDAR
VERSION:2.0
PRODID:SchoolNow
CALSCALE:GREGORIAN
BEGIN:VEVENT
UID:de54fcc0-1514-11e9-9477-127aabea11e6
DTSTAMP:20190110T201818Z
SUMMARY:GED Testing at SRC Outreach Center\, Macomb
LOCATION:Spoon River College Outreach Center
URL;VALUE=URI:https://www.roe26.net/testing/calendar/1929586/ged-testing-at
 -src-clone-clone-clone
DTSTART:20190227T140000Z
DTEND:20190227T230000Z
END:VEVENT
END:VCALENDAR
