BEGIN:VCALENDAR
VERSION:2.0
PRODID:SchoolNow
CALSCALE:GREGORIAN
BEGIN:VEVENT
UID:d133ae6a-1514-11e9-b52b-127aabea11e6
DTSTAMP:20190110T201756Z
SUMMARY:GED Testing at SRC Outreach Center\, Macomb
LOCATION:Spoon River College Outreach Center
URL;VALUE=URI:https://www.roe26.net/testing/calendar/1929585/ged-testing-at
 -src-clone-clone-clone
DTSTART:20190208T140000Z
DTEND:20190208T230000Z
END:VEVENT
END:VCALENDAR
