BEGIN:VCALENDAR
VERSION:2.0
PRODID:SchoolNow
CALSCALE:GREGORIAN
BEGIN:VEVENT
UID:ac3a5622-1514-11e9-b0a8-127aabea11e6
DTSTAMP:20190110T201654Z
SUMMARY:GED Testing at SRC Outreach Center\, Macomb
LOCATION:Spoon River College Outreach Center
URL;VALUE=URI:https://www.roe26.net/testing/calendar/1929584/ged-testing-at
 -src-clone-clone
DTSTART:20190213T140000Z
DTEND:20190213T230000Z
END:VEVENT
END:VCALENDAR
