BEGIN:VCALENDAR
VERSION:2.0
PRODID:SchoolNow
CALSCALE:GREGORIAN
BEGIN:VEVENT
UID:99bda832-1514-11e9-bcc0-127aabea11e6
DTSTAMP:20190110T201623Z
SUMMARY:GED Testing at SRC Outreach Center\, Macomb
LOCATION:Spoon River College Outreach Center
URL;VALUE=URI:https://www.roe26.net/testing/calendar/1929583/ged-testing-at
 -src-clone
DTSTART:20190130T140000Z
DTEND:20190130T230000Z
END:VEVENT
END:VCALENDAR
