BEGIN:VCALENDAR
VERSION:2.0
PRODID:SchoolNow
CALSCALE:GREGORIAN
BEGIN:VEVENT
UID:426ee568-12b4-11e8-90c4-12fc85603eb0
DTSTAMP:20180925T232945Z
SUMMARY:GED Testing at SRC Outreach Center\, Macomb
LOCATION:Spoon River College Outreach Center
URL;VALUE=URI:https://www.roe26.net/testing/calendar/1712487/ged-testing-at
 -src
DTSTART:20181210T140000Z
DTEND:20181210T220000Z
END:VEVENT
END:VCALENDAR
