BEGIN:VCALENDAR
VERSION:2.0
PRODID:SchoolNow
CALSCALE:GREGORIAN
BEGIN:VEVENT
UID:30abc486-12b4-11e8-97ae-12fc85603eb0
DTSTAMP:20180925T232935Z
SUMMARY:GED Testing at SRC Outreach Center\, Macomb
LOCATION:Spoon River College Outreach Center
URL;VALUE=URI:https://www.roe26.net/testing/calendar/1712486/ged-testing-at
 -src
DTSTART:20181207T140000Z
DTEND:20181207T220000Z
END:VEVENT
END:VCALENDAR
