BEGIN:VCALENDAR
VERSION:2.0
PRODID:SchoolNow
CALSCALE:GREGORIAN
BEGIN:VEVENT
UID:1dad2604-12b4-11e8-a8c5-12fc85603eb0
DTSTAMP:20180925T163049Z
SUMMARY:GED Testing at SRC Outreach Center\, Macomb
LOCATION:Spoon River College Outreach Center
URL;VALUE=URI:https://www.roe26.net/testing/calendar/1712485/ged-testing-at
 -src
DTSTART:20181128T140000Z
DTEND:20181128T220000Z
END:VEVENT
END:VCALENDAR
