BEGIN:VCALENDAR
VERSION:2.0
PRODID:SchoolNow
CALSCALE:GREGORIAN
BEGIN:VEVENT
UID:13152d0e-12b4-11e8-88da-12fc85603eb0
DTSTAMP:20180925T162708Z
SUMMARY:GED Testing at SRC Outreach Center\, Macomb
LOCATION:Spoon River College Outreach Center
URL;VALUE=URI:https://www.roe26.net/testing/calendar/1712484/ged-testing-at
 -src
DTSTART:20181116T140000Z
DTEND:20181116T220000Z
END:VEVENT
END:VCALENDAR
