BEGIN:VCALENDAR
VERSION:2.0
PRODID:SchoolNow
CALSCALE:GREGORIAN
BEGIN:VEVENT
UID:8b71e7ca-12b3-11e8-8f04-0a8d12ebc3ee
DTSTAMP:20180925T162656Z
SUMMARY:GED Testing at SRC Outreach Center\, Macomb
LOCATION:Spoon River College Outreach Center
URL;VALUE=URI:https://www.roe26.net/testing/calendar/1712483/ged-testing-at
 -src
DTSTART:20181107T140000Z
DTEND:20181107T220000Z
END:VEVENT
END:VCALENDAR
